BEGIN:VCALENDAR
VERSION:2.0
PRODID:-//hond-sinn.lu - ECPv5.3.0//NONSGML v1.0//EN
CALSCALE:GREGORIAN
METHOD:PUBLISH
X-WR-CALNAME:hond-sinn.lu
X-ORIGINAL-URL:http://www.hond-sinn.lu
X-WR-CALDESC:Veranstaltungen für hond-sinn.lu
BEGIN:VTIMEZONE
TZID:Europe/Luxembourg
BEGIN:DAYLIGHT
TZOFFSETFROM:+0100
TZOFFSETTO:+0200
TZNAME:CEST
DTSTART:20180325T010000
END:DAYLIGHT
BEGIN:STANDARD
TZOFFSETFROM:+0200
TZOFFSETTO:+0100
TZNAME:CET
DTSTART:20181028T010000
END:STANDARD
END:VTIMEZONE
BEGIN:VEVENT
DTSTART;VALUE=DATE:20180401
DTEND;VALUE=DATE:20181230
DTSTAMP:20210424T020425
CREATED:20180330T165425Z
LAST-MODIFIED:20180330T165650Z
UID:2059-1522540800-1546127999@www.hond-sinn.lu
SUMMARY:Gruppen&Akiviteiten
DESCRIPTION:Aus zaitlechen Grënn ass desen Agenda net emmer aktuell. Fir dei aktuell Terminer vun den Gruppen an Aktiviteiten ze kreien\, scheckt mer einfach eng Mail. Aktuell fannen folgend Gruppen/Aktiviteiten reegelmeisseg (Samstes/Sonndes) statt: Erwuessengrupp\, Welpengrupp\, Juniorgrupp\, Treibball\, Fährte\, Dummyfun an Mantrailing.
URL:http://www.hond-sinn.lu/event/test-3/
CATEGORIES:Dummy-fun,Erwuessen-Grupp,Fährte-Grupp,Grupp fir kleng Muppen,Jagility,Kontakt&Ofschaltgrupp,Mantrailing-Grupp,Themenowend,Treibball-Grupp,Welpen/Juniorgrupp,Workshop & Seminar
END:VEVENT
END:VCALENDAR