BEGIN:VCALENDAR
VERSION:2.0
PRODID:-//hond-sinn.lu - ECPv5.3.0//NONSGML v1.0//EN
CALSCALE:GREGORIAN
METHOD:PUBLISH
X-WR-CALNAME:hond-sinn.lu
X-ORIGINAL-URL:http://www.hond-sinn.lu
X-WR-CALDESC:Veranstaltungen für hond-sinn.lu
BEGIN:VTIMEZONE
TZID:Europe/Luxembourg
BEGIN:DAYLIGHT
TZOFFSETFROM:+0100
TZOFFSETTO:+0200
TZNAME:CEST
DTSTART:20140330T010000
END:DAYLIGHT
BEGIN:STANDARD
TZOFFSETFROM:+0200
TZOFFSETTO:+0100
TZNAME:CET
DTSTART:20141026T010000
END:STANDARD
END:VTIMEZONE
BEGIN:VEVENT
DTSTART;TZID=Europe/Luxembourg:20141231T140000
DTEND;TZID=Europe/Luxembourg:20141231T160000
DTSTAMP:20210423T105548
CREATED:20141229T204340Z
LAST-MODIFIED:20141229T204340Z
UID:1348-1420034400-1420041600@www.hond-sinn.lu
SUMMARY:Erwuessegruppen 1-4
DESCRIPTION:
URL:http://www.hond-sinn.lu/event/erwuessegruppen-1-4-6/
CATEGORIES:Erwuessen-Grupp
END:VEVENT
END:VCALENDAR