BEGIN:VCALENDAR
VERSION:2.0
PRODID:-//hond-sinn.lu - ECPv5.3.0//NONSGML v1.0//EN
CALSCALE:GREGORIAN
METHOD:PUBLISH
X-WR-CALNAME:hond-sinn.lu
X-ORIGINAL-URL:http://www.hond-sinn.lu
X-WR-CALDESC:Veranstaltungen für hond-sinn.lu
BEGIN:VTIMEZONE
TZID:Europe/Luxembourg
BEGIN:DAYLIGHT
TZOFFSETFROM:+0100
TZOFFSETTO:+0200
TZNAME:CEST
DTSTART:20150329T010000
END:DAYLIGHT
BEGIN:STANDARD
TZOFFSETFROM:+0200
TZOFFSETTO:+0100
TZNAME:CET
DTSTART:20151025T010000
END:STANDARD
END:VTIMEZONE
BEGIN:VEVENT
DTSTART;TZID=Europe/Luxembourg:20151114T140000
DTEND;TZID=Europe/Luxembourg:20151114T160000
DTSTAMP:20210422T215405
CREATED:20150914T144614Z
LAST-MODIFIED:20150914T193301Z
UID:1584-1447509600-1447516800@www.hond-sinn.lu
SUMMARY:Erwuessengruppen 1-5
DESCRIPTION:
URL:http://www.hond-sinn.lu/event/erwuessengruppen-1-5-4/
CATEGORIES:Erwuessen-Grupp
END:VEVENT
END:VCALENDAR