BEGIN:VCALENDAR
VERSION:2.0
PRODID:-//hond-sinn.lu - ECPv5.3.0//NONSGML v1.0//EN
CALSCALE:GREGORIAN
METHOD:PUBLISH
X-WR-CALNAME:hond-sinn.lu
X-ORIGINAL-URL:http://www.hond-sinn.lu
X-WR-CALDESC:Veranstaltungen für hond-sinn.lu
BEGIN:VTIMEZONE
TZID:Europe/Luxembourg
BEGIN:DAYLIGHT
TZOFFSETFROM:+0100
TZOFFSETTO:+0200
TZNAME:CEST
DTSTART:20140330T010000
END:DAYLIGHT
BEGIN:STANDARD
TZOFFSETFROM:+0200
TZOFFSETTO:+0100
TZNAME:CET
DTSTART:20141026T010000
END:STANDARD
END:VTIMEZONE
BEGIN:VEVENT
DTSTART;TZID=Europe/Luxembourg:20140720T150000
DTEND;TZID=Europe/Luxembourg:20140720T170000
DTSTAMP:20210423T110051
CREATED:20140623T133131Z
LAST-MODIFIED:20140623T133131Z
UID:1134-1405868400-1405875600@www.hond-sinn.lu
SUMMARY:Ewuessen-Grupp 1+2+3+4
DESCRIPTION:
URL:http://www.hond-sinn.lu/event/ewuessen-grupp-1234/
CATEGORIES:Erwuessen-Grupp
END:VEVENT
END:VCALENDAR