BEGIN:VCALENDAR
VERSION:2.0
PRODID:-//hond-sinn.lu - ECPv5.3.0//NONSGML v1.0//EN
CALSCALE:GREGORIAN
METHOD:PUBLISH
X-WR-CALNAME:hond-sinn.lu
X-ORIGINAL-URL:http://www.hond-sinn.lu
X-WR-CALDESC:Veranstaltungen für hond-sinn.lu
BEGIN:VTIMEZONE
TZID:Europe/Luxembourg
BEGIN:DAYLIGHT
TZOFFSETFROM:+0100
TZOFFSETTO:+0200
TZNAME:CEST
DTSTART:20140330T010000
END:DAYLIGHT
BEGIN:STANDARD
TZOFFSETFROM:+0200
TZOFFSETTO:+0100
TZNAME:CET
DTSTART:20141026T010000
END:STANDARD
END:VTIMEZONE
BEGIN:VEVENT
DTSTART;TZID=Europe/Luxembourg:20140323T160000
DTEND;TZID=Europe/Luxembourg:20140323T173000
DTSTAMP:20210423T111326
CREATED:20140221T173621Z
LAST-MODIFIED:20140228T125718Z
UID:458-1395590400-1395595800@www.hond-sinn.lu
SUMMARY:Fährtegrupp
DESCRIPTION:
URL:http://www.hond-sinn.lu/event/faehrte-2/2014-03-23/
ATTACH;FMTTYPE=image/jpeg:http://www.hond-sinn.lu/wp-content/uploads/2014/02/Fährtegrupp-013.jpg
END:VEVENT
END:VCALENDAR