BEGIN:VCALENDAR
VERSION:2.0
PRODID:-//hond-sinn.lu - ECPv5.3.0//NONSGML v1.0//EN
CALSCALE:GREGORIAN
METHOD:PUBLISH
X-WR-CALNAME:hond-sinn.lu
X-ORIGINAL-URL:http://www.hond-sinn.lu
X-WR-CALDESC:Veranstaltungen für hond-sinn.lu
BEGIN:VTIMEZONE
TZID:Europe/Luxembourg
BEGIN:DAYLIGHT
TZOFFSETFROM:+0100
TZOFFSETTO:+0200
TZNAME:CEST
DTSTART:20150329T010000
END:DAYLIGHT
BEGIN:STANDARD
TZOFFSETFROM:+0200
TZOFFSETTO:+0100
TZNAME:CET
DTSTART:20151025T010000
END:STANDARD
END:VTIMEZONE
BEGIN:VEVENT
DTSTART;TZID=Europe/Luxembourg:20150504T170000
DTEND;TZID=Europe/Luxembourg:20150504T180000
DTSTAMP:20210422T220054
CREATED:20141120T173750Z
LAST-MODIFIED:20150417T143124Z
UID:1322-1430758800-1430762400@www.hond-sinn.lu
SUMMARY:Kontakt&Ofschaltgrupp
DESCRIPTION:
URL:http://www.hond-sinn.lu/event/kontaktofschaltgrupp-22/
CATEGORIES:Kontakt&Ofschaltgrupp
END:VEVENT
END:VCALENDAR