BEGIN:VCALENDAR
VERSION:2.0
PRODID:-//hond-sinn.lu - ECPv5.3.0//NONSGML v1.0//EN
CALSCALE:GREGORIAN
METHOD:PUBLISH
X-WR-CALNAME:hond-sinn.lu
X-ORIGINAL-URL:http://www.hond-sinn.lu
X-WR-CALDESC:Veranstaltungen für hond-sinn.lu
BEGIN:VTIMEZONE
TZID:Europe/Luxembourg
BEGIN:DAYLIGHT
TZOFFSETFROM:+0100
TZOFFSETTO:+0200
TZNAME:CEST
DTSTART:20140330T010000
END:DAYLIGHT
BEGIN:STANDARD
TZOFFSETFROM:+0200
TZOFFSETTO:+0100
TZNAME:CET
DTSTART:20141026T010000
END:STANDARD
END:VTIMEZONE
BEGIN:VEVENT
DTSTART;TZID=Europe/Luxembourg:20140525T140000
DTEND;TZID=Europe/Luxembourg:20140525T150000
DTSTAMP:20210423T105845
CREATED:20140422T190711Z
LAST-MODIFIED:20140422T190711Z
UID:1092-1401026400-1401030000@www.hond-sinn.lu
SUMMARY:Kontakt&Ofschaltgrupp
DESCRIPTION:
URL:http://www.hond-sinn.lu/event/kontaktofschaltgrupp-4/
CATEGORIES:Kontakt&Ofschaltgrupp
END:VEVENT
END:VCALENDAR