BEGIN:VCALENDAR
VERSION:2.0
PRODID:-//hond-sinn.lu - ECPv5.3.0//NONSGML v1.0//EN
CALSCALE:GREGORIAN
METHOD:PUBLISH
X-WR-CALNAME:hond-sinn.lu
X-ORIGINAL-URL:http://www.hond-sinn.lu
X-WR-CALDESC:Veranstaltungen für hond-sinn.lu
BEGIN:VTIMEZONE
TZID:Europe/Luxembourg
BEGIN:DAYLIGHT
TZOFFSETFROM:+0100
TZOFFSETTO:+0200
TZNAME:CEST
DTSTART:20140330T010000
END:DAYLIGHT
BEGIN:STANDARD
TZOFFSETFROM:+0200
TZOFFSETTO:+0100
TZNAME:CET
DTSTART:20141026T010000
END:STANDARD
END:VTIMEZONE
BEGIN:VEVENT
DTSTART;TZID=Europe/Luxembourg:20140628T161500
DTEND;TZID=Europe/Luxembourg:20140628T171500
DTSTAMP:20210423T110438
CREATED:20140524T162156Z
LAST-MODIFIED:20140524T162156Z
UID:1117-1403972100-1403975700@www.hond-sinn.lu
SUMMARY:Treibball-Grupp
DESCRIPTION:
URL:http://www.hond-sinn.lu/event/treibball-grupp-7/
CATEGORIES:Treibball-Grupp
END:VEVENT
END:VCALENDAR