BEGIN:VCALENDAR
VERSION:2.0
PRODID:-//hond-sinn.lu - ECPv5.3.0//NONSGML v1.0//EN
CALSCALE:GREGORIAN
METHOD:PUBLISH
X-WR-CALNAME:hond-sinn.lu
X-ORIGINAL-URL:http://www.hond-sinn.lu
X-WR-CALDESC:Veranstaltungen für hond-sinn.lu
BEGIN:VTIMEZONE
TZID:Europe/Luxembourg
BEGIN:DAYLIGHT
TZOFFSETFROM:+0100
TZOFFSETTO:+0200
TZNAME:CEST
DTSTART:20140330T010000
END:DAYLIGHT
BEGIN:STANDARD
TZOFFSETFROM:+0200
TZOFFSETTO:+0100
TZNAME:CET
DTSTART:20141026T010000
END:STANDARD
END:VTIMEZONE
BEGIN:VEVENT
DTSTART;TZID=Europe/Luxembourg:20140426T140000
DTEND;TZID=Europe/Luxembourg:20140426T153000
DTSTAMP:20210423T111031
CREATED:20140420T133413Z
LAST-MODIFIED:20140420T133501Z
UID:1002-1398520800-1398526200@www.hond-sinn.lu
SUMMARY:Treibball-Grupp
DESCRIPTION:
URL:http://www.hond-sinn.lu/event/treibball-grupp/
LOCATION:Terrain Obercorn\, 5\, rue de l'Exemple\, Obercorn\, 1234\, Luxemburg
CATEGORIES:Treibball-Grupp
END:VEVENT
END:VCALENDAR