BEGIN:VCALENDAR
VERSION:2.0
PRODID:-//hond-sinn.lu - ECPv5.3.0//NONSGML v1.0//EN
CALSCALE:GREGORIAN
METHOD:PUBLISH
X-WR-CALNAME:hond-sinn.lu
X-ORIGINAL-URL:http://www.hond-sinn.lu
X-WR-CALDESC:Veranstaltungen für hond-sinn.lu
BEGIN:VTIMEZONE
TZID:Europe/Luxembourg
BEGIN:DAYLIGHT
TZOFFSETFROM:+0100
TZOFFSETTO:+0200
TZNAME:CEST
DTSTART:20140330T010000
END:DAYLIGHT
BEGIN:STANDARD
TZOFFSETFROM:+0200
TZOFFSETTO:+0100
TZNAME:CET
DTSTART:20141026T010000
END:STANDARD
END:VTIMEZONE
BEGIN:VEVENT
DTSTART;TZID=Europe/Luxembourg:20140413T020000
DTEND;TZID=Europe/Luxembourg:20140413T180000
DTSTAMP:20210423T111020
CREATED:20140217T160803Z
LAST-MODIFIED:20140228T124621Z
UID:322-1397354400-1397412000@www.hond-sinn.lu
SUMMARY:Treibballworkshop 13.04.2014
DESCRIPTION:Den nächsten Treibballworkshop fennt den 13.04.2014 statt\, et sin nach 2 Plazen frai. Fir weider Informatiounen oder fir ärch unzemellen\, kontakteiert mech perseinlech.
URL:http://www.hond-sinn.lu/event/treibballworkshop-13-04-2014/
LOCATION:Terrain Obercorn\, 5\, rue de l'Exemple\, Obercorn\, 1234\, Luxemburg
ATTACH;FMTTYPE=image/jpeg:http://www.hond-sinn.lu/wp-content/uploads/2014/02/Treibballworkshop-15.12.13-140.jpg
END:VEVENT
END:VCALENDAR