BEGIN:VCALENDAR
VERSION:2.0
PRODID:-//hond-sinn.lu - ECPv5.3.0//NONSGML v1.0//EN
CALSCALE:GREGORIAN
METHOD:PUBLISH
X-WR-CALNAME:hond-sinn.lu
X-ORIGINAL-URL:http://www.hond-sinn.lu
X-WR-CALDESC:Veranstaltungen für hond-sinn.lu
BEGIN:VTIMEZONE
TZID:Europe/Luxembourg
BEGIN:DAYLIGHT
TZOFFSETFROM:+0100
TZOFFSETTO:+0200
TZNAME:CEST
DTSTART:20140330T010000
END:DAYLIGHT
BEGIN:STANDARD
TZOFFSETFROM:+0200
TZOFFSETTO:+0100
TZNAME:CET
DTSTART:20141026T010000
END:STANDARD
END:VTIMEZONE
BEGIN:VEVENT
DTSTART;TZID=Europe/Luxembourg:20141019T100000
DTEND;TZID=Europe/Luxembourg:20141019T120000
DTSTAMP:20210423T110249
CREATED:20140910T084915Z
LAST-MODIFIED:20140910T135111Z
UID:1250-1413712800-1413720000@www.hond-sinn.lu
SUMMARY:Welpen/Juniorgrupp
DESCRIPTION:
URL:http://www.hond-sinn.lu/event/welpenjuniorgrupp-11/
CATEGORIES:Welpen/Juniorgrupp
END:VEVENT
END:VCALENDAR