BEGIN:VCALENDAR
VERSION:2.0
PRODID:-//hond-sinn.lu - ECPv5.3.0//NONSGML v1.0//EN
CALSCALE:GREGORIAN
METHOD:PUBLISH
X-WR-CALNAME:hond-sinn.lu
X-ORIGINAL-URL:http://www.hond-sinn.lu
X-WR-CALDESC:Veranstaltungen für hond-sinn.lu
BEGIN:VTIMEZONE
TZID:Europe/Luxembourg
BEGIN:DAYLIGHT
TZOFFSETFROM:+0100
TZOFFSETTO:+0200
TZNAME:CEST
DTSTART:20150329T010000
END:DAYLIGHT
BEGIN:STANDARD
TZOFFSETFROM:+0200
TZOFFSETTO:+0100
TZNAME:CET
DTSTART:20151025T010000
END:STANDARD
END:VTIMEZONE
BEGIN:VEVENT
DTSTART;TZID=Europe/Luxembourg:20150228T220000
DTEND;TZID=Europe/Luxembourg:20150228T220000
DTSTAMP:20210423T105602
CREATED:20141229T204037Z
LAST-MODIFIED:20150213T175740Z
UID:1344-1425160800-1425160800@www.hond-sinn.lu
SUMMARY:Welpen/Juniorgrupp
DESCRIPTION:
URL:http://www.hond-sinn.lu/event/welpenjuniorgrupp-22/
CATEGORIES:Welpen/Juniorgrupp
END:VEVENT
END:VCALENDAR