BEGIN:VCALENDAR
VERSION:2.0
PRODID:-//hond-sinn.lu - ECPv5.3.0//NONSGML v1.0//EN
CALSCALE:GREGORIAN
METHOD:PUBLISH
X-WR-CALNAME:hond-sinn.lu
X-ORIGINAL-URL:http://www.hond-sinn.lu
X-WR-CALDESC:Veranstaltungen für hond-sinn.lu
BEGIN:VTIMEZONE
TZID:Europe/Luxembourg
BEGIN:DAYLIGHT
TZOFFSETFROM:+0100
TZOFFSETTO:+0200
TZNAME:CEST
DTSTART:20150329T010000
END:DAYLIGHT
BEGIN:STANDARD
TZOFFSETFROM:+0200
TZOFFSETTO:+0100
TZNAME:CET
DTSTART:20151025T010000
END:STANDARD
END:VTIMEZONE
BEGIN:VEVENT
DTSTART;TZID=Europe/Luxembourg:20150222T150000
DTEND;TZID=Europe/Luxembourg:20150222T160000
DTSTAMP:20210423T105558
CREATED:20141229T204607Z
LAST-MODIFIED:20150213T171144Z
UID:1350-1424617200-1424620800@www.hond-sinn.lu
SUMMARY:Welpen/Juniorgrupp
DESCRIPTION:
URL:http://www.hond-sinn.lu/event/welpenjuniorgrupp-23/
CATEGORIES:Welpen/Juniorgrupp
END:VEVENT
END:VCALENDAR